BEGIN:VCALENDAR
VERSION:2.0
PRODID:-//Seaside - ECPv6.13.1//NONSGML v1.0//EN
CALSCALE:GREGORIAN
METHOD:PUBLISH
X-WR-CALNAME:Seaside
X-ORIGINAL-URL:https://seasidefl.com
X-WR-CALDESC:Events for Seaside
REFRESH-INTERVAL;VALUE=DURATION:PT1H
X-Robots-Tag:noindex
X-PUBLISHED-TTL:PT1H
BEGIN:VTIMEZONE
TZID:UTC
BEGIN:STANDARD
TZOFFSETFROM:+0000
TZOFFSETTO:+0000
TZNAME:UTC
DTSTART:20260101T000000
END:STANDARD
END:VTIMEZONE
BEGIN:VTIMEZONE
TZID:America/Chicago
BEGIN:DAYLIGHT
TZOFFSETFROM:-0600
TZOFFSETTO:-0500
TZNAME:CDT
DTSTART:20260308T080000
END:DAYLIGHT
BEGIN:STANDARD
TZOFFSETFROM:-0500
TZOFFSETTO:-0600
TZNAME:CST
DTSTART:20261101T070000
END:STANDARD
END:VTIMEZONE
BEGIN:VEVENT
DTSTART;TZID=UTC:20260421T080000
DTEND;TZID=UTC:20260421T084500
DTSTAMP:20260421T100604
CREATED:20260217T204249Z
LAST-MODIFIED:20260401T114341Z
UID:10016532-1776758400-1776761100@seasidefl.com
SUMMARY:Tennis: Eye-Opener Clinics
DESCRIPTION:Start your day on the courts with Eye-Opener Clinics at the Seaside Athletic Club\, a daily morning tennis program designed to energize your routine and elevate your game. Held daily at 8:00 AM. Additional sessions are held at 9:00 AM and 10:00 AM Monday through Thursday only. These clinics offer focused instruction\, skill-building drills\, and match-style play in a welcoming\, small-group setting. \nLed by one of our experienced tennis professionals\, Eye-Opener Clinics are perfect for beginners and seasoned players alike who want to improve technique\, build confidence\, and stay active. Whether you’re visiting for a weekend or playing year-round\, this popular morning clinic is a great way to stay connected to the tennis community. \nClinic Rates \n\n\nSEASIDE® Athletic Club Members: $25 per clinic \n\n\nRental Guests: $30 per clinic \n\n\nWalk-Ins: $35 per clinic \n\n\nPlease note that clinics may be canceled due to inclement weather. 
URL:https://seasidefl.com/event/tennis-eye-opener-clinics-2/2026-04-21/
LOCATION:Tennis & Pickleball Courts\, 394 Forest St\, Santa Rosa Beach\, FL\, 32459\, United States
CATEGORIES:Tennis
END:VEVENT
BEGIN:VEVENT
DTSTART;TZID=UTC:20260421T080000
DTEND;TZID=UTC:20260421T090000
DTSTAMP:20260421T100604
CREATED:20260223T165809Z
LAST-MODIFIED:20260327T165632Z
UID:10024998-1776758400-1776762000@seasidefl.com
SUMMARY:Walking Club
DESCRIPTION:Join us on Tuesday mornings for the SEASIDE® Walking Club! This is a fun\, social way to stay active and is perfect for individuals of all fitness levels who enjoy walking at a comfortable pace\, whether you’re looking to improve your overall health\, get outside\, or simply meet new people.
URL:https://seasidefl.com/event/seasidewalkingclub/2026-04-21/
LOCATION:Post Office
CATEGORIES:Fitness & Wellness,group fitness
ATTACH;FMTTYPE=image/jpeg:https://cdn.seasidefl.com/wp-content/uploads/2025/04/04145118/Seaside_6_23_0087-scaled.jpg
END:VEVENT
BEGIN:VEVENT
DTSTART;TZID=UTC:20260421T083000
DTEND;TZID=UTC:20260421T093000
DTSTAMP:20260421T100604
CREATED:20251111T162522Z
LAST-MODIFIED:20260401T135336Z
UID:10010794-1776760200-1776763800@seasidefl.com
SUMMARY:Water Aerobics Class
DESCRIPTION:This fun\, low-impact class is designed to improve cardiovascular fitness\, strength\, and flexibility\, all while taking advantage of the natural resistance of water. Whether you’re a beginner or an experienced swimmer\, water aerobics offers a full-body workout that’s gentle on the joints\, making it ideal for individuals with arthritis or joint pain\, or for those looking for a softer\, yet effective\, alternative to land-based exercises.  Whether you’re looking to improve your fitness\, recover from an injury\, or enjoy a refreshing workout\, this class offers a great way to stay active and have fun in the pool! This class takes place at The Family Pool. \n**Fees apply
URL:https://seasidefl.com/event/water-aerobics/2026-04-21/
LOCATION:Seaside Athletic Club\, Scenic Highway 30A\, Seaside\, FL\, 32459\, United States
CATEGORIES:Fitness & Wellness,group fitness
ATTACH;FMTTYPE=image/webp:https://cdn.seasidefl.com/wp-content/uploads/2025/11/25222157/Seaside_6_23_0659-scaled-1.webp
END:VEVENT
BEGIN:VEVENT
DTSTART;TZID=UTC:20260421T083000
DTEND;TZID=UTC:20260421T093000
DTSTAMP:20260421T100604
CREATED:20260113T213455Z
LAST-MODIFIED:20260401T114223Z
UID:10011133-1776760200-1776763800@seasidefl.com
SUMMARY:Vinyasa Yoga Class
DESCRIPTION:Vinyasa Yoga Classes are held at 8:30 AM every day from March 1\, 2026\, until October 31\, 2026\, unless there is inclement weather. Please bring your own mat or towel and something to hydrate! Classes are held at the Seaside Pavilion behind SEASIDE® Pop-Up District on the Gulf. There is no need to preregister – just arrive a few minutes before class to get settled!\n\n\n\n\n\n\n\n\nEmail: seasideflyoga@yahoo.com | Phone: 1 (850) 865-9863\n\nClasses are $25 via Venmo payment\, cash\, or check. \n\n\n\n    
URL:https://seasidefl.com/event/seaside-vinyasa-yoga/2026-04-21/
LOCATION:Seaside Pavilion
CATEGORIES:Yoga
ATTACH;FMTTYPE=image/jpeg:https://cdn.seasidefl.com/wp-content/uploads/2026/01/13213430/A110_C299_092990_001.01_19_29_17.Still080-scaled.jpg
END:VEVENT
BEGIN:VEVENT
DTSTART;TZID=UTC:20260421T090000
DTEND;TZID=UTC:20260421T094500
DTSTAMP:20260421T100604
CREATED:20260217T193247Z
LAST-MODIFIED:20260401T114506Z
UID:10018331-1776762000-1776764700@seasidefl.com
SUMMARY:Tennis: Eye-Opener Clinics
DESCRIPTION:Start your day on the courts with Eye-Opener Clinics at the Seaside Athletic Club\, a daily morning tennis program designed to energize your routine and elevate your game. Clinics are held every day at 8:00 AM with additional sessions at 9:00 AM and 10:00 AM Monday through Thursday only. These clinics offer focused instruction\, skill-building drills\, and match-style play in a welcoming\, small-group setting. \nLed by one of our experienced tennis professionals\, Eye-Opener Clinics are perfect for beginners and seasoned players alike who want to improve technique\, build confidence\, and stay active. Whether you’re visiting for a weekend or playing year-round\, this popular morning clinic is a great way to stay connected to the tennis community. \nClinic Rates \n\n\nSEASIDE® Athletic Club Members: $25 per clinic \n\n\nRental Guests: $30 per clinic \n\n\nWalk-Ins: $35 per clinic \n\n\nPlease note that clinics may be canceled due to inclement weather. 
URL:https://seasidefl.com/event/tennis-eye-opener-clinics/2026-04-21/
LOCATION:Tennis & Pickleball Courts\, 394 Forest St\, Santa Rosa Beach\, FL\, 32459\, United States
CATEGORIES:Tennis
END:VEVENT
BEGIN:VEVENT
DTSTART;TZID=UTC:20260421T100000
DTEND;TZID=UTC:20260421T104500
DTSTAMP:20260421T100604
CREATED:20260217T204741Z
LAST-MODIFIED:20260401T114424Z
UID:10020417-1776765600-1776768300@seasidefl.com
SUMMARY:Tennis: Eye-Opener Clinics
DESCRIPTION:Start your day on the courts with Eye-Opener Clinics at the Seaside Athletic Club\, a daily morning tennis program designed to energize your routine and elevate your game. Clinics are held every day at 8:00 AM with additional sessions at 9:00 AM and 10:00 AM Monday through Thursday only. These clinics offer focused instruction\, skill-building drills\, and match-style play in a welcoming\, small-group setting. \nLed by one of our experienced tennis professionals\, Eye-Opener Clinics are perfect for beginners and seasoned players alike who want to improve technique\, build confidence\, and stay active. Whether you’re visiting for a weekend or playing year-round\, this popular morning clinic is a great way to stay connected to the tennis community. \nClinic Rates \n\n\nSEASIDE® Athletic Club Members: $25 per clinic \n\n\nRental Guests: $30 per clinic \n\n\nWalk-Ins: $35 per clinic \n\n\nPlease note that clinics may be canceled due to inclement weather. 
URL:https://seasidefl.com/event/tennis-eye-opener-clinics-3/2026-04-21/
LOCATION:Tennis & Pickleball Courts\, 394 Forest St\, Santa Rosa Beach\, FL\, 32459\, United States
CATEGORIES:Tennis
END:VEVENT
BEGIN:VEVENT
DTSTART;TZID=America/Chicago:20260421T163000
DTEND;TZID=America/Chicago:20260421T183000
DTSTAMP:20260421T100604
CREATED:20260210T205529Z
LAST-MODIFIED:20260401T113901Z
UID:10024852-1776789000-1776796200@seasidefl.com
SUMMARY:Free Beach Volleyball
DESCRIPTION:SEASIDE® Athletic Club is thrilled to offer complimentary beach volleyball at the Coleman Pavilion Beach every Tuesday and Thursday from 4:30 PM to 6:30 PM\, weather permitting. Everyone’s welcome\, come spike\, serve\, and socialize! See you there!
URL:https://seasidefl.com/event/beach-volleyball/2026-04-21/
LOCATION:Coleman Pavilion\, E County Hwy 30A\, Santa Rosa Beach\, Seaside\, FL\, 32459\, United States
CATEGORIES:Family Fun,Fitness & Wellness
ATTACH;FMTTYPE=image/webp:https://cdn.seasidefl.com/wp-content/uploads/2026/02/25222544/Seaside_2024_1192.webp
END:VEVENT
BEGIN:VEVENT
DTSTART;TZID=UTC:20260421T170000
DTEND;TZID=UTC:20260421T183000
DTSTAMP:20260421T100604
CREATED:20260402T163503Z
LAST-MODIFIED:20260402T163503Z
UID:10025668-1776790800-1776796200@seasidefl.com
SUMMARY:Noah Kahan Pre-Release Listening Party
DESCRIPTION:Central Square Records will be hosting ‘The Great Divide’ Pre-Release Listening Party at 5pm! They will play the album in its entirety\, for everyone to hear. You can Pre-Order the CD\, Vinyl\, and the Indie Exclusive ‘Beer Bottle’ Vinyl during the party as well.
URL:https://seasidefl.com/event/noah-kahan-pre-release-listening-party/
LOCATION:Central Square Records\, 89 Central Square 2nd Floor\, Santa Rosa Beach\, FL\, 32459\, United States
CATEGORIES:Merchant Events,Music
END:VEVENT
END:VCALENDAR