BEGIN:VCALENDAR
VERSION:2.0
PRODID:-//Seaside - ECPv6.13.1//NONSGML v1.0//EN
CALSCALE:GREGORIAN
METHOD:PUBLISH
X-WR-CALNAME:Seaside
X-ORIGINAL-URL:https://seasidefl.com
X-WR-CALDESC:Events for Seaside
REFRESH-INTERVAL;VALUE=DURATION:PT1H
X-Robots-Tag:noindex
X-PUBLISHED-TTL:PT1H
BEGIN:VTIMEZONE
TZID:UTC
BEGIN:STANDARD
TZOFFSETFROM:+0000
TZOFFSETTO:+0000
TZNAME:UTC
DTSTART:20260101T000000
END:STANDARD
END:VTIMEZONE
BEGIN:VEVENT
DTSTART;TZID=UTC:20260420T080000
DTEND;TZID=UTC:20260420T084500
DTSTAMP:20260420T104000
CREATED:20260217T204249Z
LAST-MODIFIED:20260401T114341Z
UID:10016531-1776672000-1776674700@seasidefl.com
SUMMARY:Tennis: Eye-Opener Clinics
DESCRIPTION:Start your day on the courts with Eye-Opener Clinics at the Seaside Athletic Club\, a daily morning tennis program designed to energize your routine and elevate your game. Held daily at 8:00 AM. Additional sessions are held at 9:00 AM and 10:00 AM Monday through Thursday only. These clinics offer focused instruction\, skill-building drills\, and match-style play in a welcoming\, small-group setting. \nLed by one of our experienced tennis professionals\, Eye-Opener Clinics are perfect for beginners and seasoned players alike who want to improve technique\, build confidence\, and stay active. Whether you’re visiting for a weekend or playing year-round\, this popular morning clinic is a great way to stay connected to the tennis community. \nClinic Rates \n\n\nSEASIDE® Athletic Club Members: $25 per clinic \n\n\nRental Guests: $30 per clinic \n\n\nWalk-Ins: $35 per clinic \n\n\nPlease note that clinics may be canceled due to inclement weather. 
URL:https://seasidefl.com/event/tennis-eye-opener-clinics-2/2026-04-20/
LOCATION:Tennis & Pickleball Courts\, 394 Forest St\, Santa Rosa Beach\, FL\, 32459\, United States
CATEGORIES:Tennis
END:VEVENT
BEGIN:VEVENT
DTSTART;TZID=UTC:20260420T080000
DTEND;TZID=UTC:20260420T090000
DTSTAMP:20260420T104000
CREATED:20260106T154507Z
LAST-MODIFIED:20260401T114808Z
UID:10024317-1776672000-1776675600@seasidefl.com
SUMMARY:Core Express Class
DESCRIPTION:This fast-paced\, 45-minute class is designed to target and strengthen your core muscles\, improve posture\, and enhance stability.  Whether you’re a beginner or advanced\, modifications are offered to meet all fitness levels. Expect a mix of floor exercises\, dynamic movements\, and bodyweight routines\, all designed to increase muscle endurance and tone your midsection. This class takes place at the SEASIDE® Assembly Hall. \n**Fees apply \nPlease note that on March 2nd\, class will take place at the Fitness Center.
URL:https://seasidefl.com/event/seaside-athletic-club-core-express/2026-04-20/
LOCATION:Seaside Assembly Hall\, 168 Smolian Circle\, Santa Rosa Beach\, FL\, 32459\, United States
CATEGORIES:Fitness & Wellness,group fitness
ATTACH;FMTTYPE=image/webp:https://cdn.seasidefl.com/wp-content/uploads/2026/01/25221031/Seaside_9_24_0202-scaled-1.webp
END:VEVENT
BEGIN:VEVENT
DTSTART;TZID=UTC:20260420T083000
DTEND;TZID=UTC:20260420T093000
DTSTAMP:20260420T104000
CREATED:20260113T213455Z
LAST-MODIFIED:20260401T114223Z
UID:10011132-1776673800-1776677400@seasidefl.com
SUMMARY:Vinyasa Yoga Class
DESCRIPTION:Vinyasa Yoga Classes are held at 8:30 AM every day from March 1\, 2026\, until October 31\, 2026\, unless there is inclement weather. Please bring your own mat or towel and something to hydrate! Classes are held at the Seaside Pavilion behind SEASIDE® Pop-Up District on the Gulf. There is no need to preregister – just arrive a few minutes before class to get settled!\n\n\n\n\n\n\n\n\nEmail: seasideflyoga@yahoo.com | Phone: 1 (850) 865-9863\n\nClasses are $25 via Venmo payment\, cash\, or check. \n\n\n\n    
URL:https://seasidefl.com/event/seaside-vinyasa-yoga/2026-04-20/
LOCATION:Seaside Pavilion
CATEGORIES:Yoga
ATTACH;FMTTYPE=image/jpeg:https://cdn.seasidefl.com/wp-content/uploads/2026/01/13213430/A110_C299_092990_001.01_19_29_17.Still080-scaled.jpg
END:VEVENT
BEGIN:VEVENT
DTSTART;TZID=UTC:20260420T090000
DTEND;TZID=UTC:20260420T094500
DTSTAMP:20260420T104000
CREATED:20260217T193247Z
LAST-MODIFIED:20260401T114506Z
UID:10018330-1776675600-1776678300@seasidefl.com
SUMMARY:Tennis: Eye-Opener Clinics
DESCRIPTION:Start your day on the courts with Eye-Opener Clinics at the Seaside Athletic Club\, a daily morning tennis program designed to energize your routine and elevate your game. Clinics are held every day at 8:00 AM with additional sessions at 9:00 AM and 10:00 AM Monday through Thursday only. These clinics offer focused instruction\, skill-building drills\, and match-style play in a welcoming\, small-group setting. \nLed by one of our experienced tennis professionals\, Eye-Opener Clinics are perfect for beginners and seasoned players alike who want to improve technique\, build confidence\, and stay active. Whether you’re visiting for a weekend or playing year-round\, this popular morning clinic is a great way to stay connected to the tennis community. \nClinic Rates \n\n\nSEASIDE® Athletic Club Members: $25 per clinic \n\n\nRental Guests: $30 per clinic \n\n\nWalk-Ins: $35 per clinic \n\n\nPlease note that clinics may be canceled due to inclement weather. 
URL:https://seasidefl.com/event/tennis-eye-opener-clinics/2026-04-20/
LOCATION:Tennis & Pickleball Courts\, 394 Forest St\, Santa Rosa Beach\, FL\, 32459\, United States
CATEGORIES:Tennis
END:VEVENT
BEGIN:VEVENT
DTSTART;TZID=UTC:20260420T100000
DTEND;TZID=UTC:20260420T104500
DTSTAMP:20260420T104000
CREATED:20260217T204741Z
LAST-MODIFIED:20260401T114424Z
UID:10020416-1776679200-1776681900@seasidefl.com
SUMMARY:Tennis: Eye-Opener Clinics
DESCRIPTION:Start your day on the courts with Eye-Opener Clinics at the Seaside Athletic Club\, a daily morning tennis program designed to energize your routine and elevate your game. Clinics are held every day at 8:00 AM with additional sessions at 9:00 AM and 10:00 AM Monday through Thursday only. These clinics offer focused instruction\, skill-building drills\, and match-style play in a welcoming\, small-group setting. \nLed by one of our experienced tennis professionals\, Eye-Opener Clinics are perfect for beginners and seasoned players alike who want to improve technique\, build confidence\, and stay active. Whether you’re visiting for a weekend or playing year-round\, this popular morning clinic is a great way to stay connected to the tennis community. \nClinic Rates \n\n\nSEASIDE® Athletic Club Members: $25 per clinic \n\n\nRental Guests: $30 per clinic \n\n\nWalk-Ins: $35 per clinic \n\n\nPlease note that clinics may be canceled due to inclement weather. 
URL:https://seasidefl.com/event/tennis-eye-opener-clinics-3/2026-04-20/
LOCATION:Tennis & Pickleball Courts\, 394 Forest St\, Santa Rosa Beach\, FL\, 32459\, United States
CATEGORIES:Tennis
END:VEVENT
BEGIN:VEVENT
DTSTART;TZID=UTC:20260420T100000
DTEND;TZID=UTC:20260420T110000
DTSTAMP:20260420T104000
CREATED:20260217T210728Z
LAST-MODIFIED:20260401T114201Z
UID:10022216-1776679200-1776682800@seasidefl.com
SUMMARY:Pickleball: Beginner Clinic
DESCRIPTION:Whether you’re new to the game or looking to refine your skills\, our structured clinics and open court rentals make it easy to get in the game while enjoying the beautiful setting of Seaside\, Florida. Our clinics are designed to build confidence\, improve technique\, and create a fun\, social playing environment for all skill levels. \nBeginner Clinic10:00 AM – 11:00 AM | Mondays \nIntermediate Clinic10:00 AM – 11:00 AM | Thursdays \nClinic RatesMembers: $25Rental Guests: $30Walk-Ins: $35
URL:https://seasidefl.com/event/pickleball-beginner-clinic/2026-04-20/
LOCATION:Tennis & Pickleball Courts\, 394 Forest St\, Santa Rosa Beach\, FL\, 32459\, United States
CATEGORIES:Tennis
END:VEVENT
BEGIN:VEVENT
DTSTART;TZID=UTC:20260420T180000
DTEND;TZID=UTC:20260420T190000
DTSTAMP:20260420T104000
CREATED:20260115T161619Z
LAST-MODIFIED:20260226T152911Z
UID:10024283-1776708000-1776711600@seasidefl.com
SUMMARY:Children's Theater
DESCRIPTION:Step into a world of magic\, mischief\, and moonlit romance as Emerald Coast Theatre Company presents A Midsummer Night’s Dream in a family-friendly adaptation at the SEASIDE® Amphitheater. This joyful retelling of Shakespeare’s beloved comedy brings love\, laughter\, and live theatre to Central Square. It’s an enchanting experience for audiences of all ages! \nA complimentary event made possible by the Arts & Entertainment fee collected by the Merchants of Seaside. \n 
URL:https://seasidefl.com/event/childrens-theater/2026-04-20/
LOCATION:Seaside Amphitheater\, Central Square\, Santa Rosa Beach\, FL\, 32459\, United States
CATEGORIES:Arts & Culture,Family Fun
END:VEVENT
END:VCALENDAR